BEGIN:VCALENDAR
VERSION:2.0
PRODID:-//ChamberMaster//Event Calendar 2.0//EN
METHOD:PUBLISH
X-PUBLISHED-TTL:P1H
REFRESH-INTERVAL:P1H
CALSCALE:GREGORIAN
BEGIN:VTIMEZONE
TZID:America/New_York
BEGIN:DAYLIGHT
RRULE:FREQ=YEARLY;BYMONTH=3;BYDAY=2SU
DTSTART:20070101T000000
TZOFFSETFROM:-0500
TZOFFSETTO:-0400
TZNAME:Eastern Daylight Time
END:DAYLIGHT
BEGIN:STANDARD
RRULE:FREQ=YEARLY;BYMONTH=11;BYDAY=1SU
DTSTART:20070101T000000
TZOFFSETFROM:-0400
TZOFFSETTO:-0500
TZNAME:Eastern Standard Time
END:STANDARD
END:VTIMEZONE
BEGIN:VEVENT
DTSTART;TZID=America/New_York:20260618T160000
DTEND;TZID=America/New_York:20260618T190000
X-MICROSOFT-CDO-ALLDAYEVENT:FALSE
SUMMARY:Open House & Ribbon Cutting at Bloom Aesthetics + Wellness
DESCRIPTION:Join us on Thursday\, June 18 for an open house and ribbon cutting celebration at the new location of Bloom Aesthetics + Wellness in Mashpee\, home of your new favorite med spa.\n\nLearn more at https://bloomaestheticsma.com/
X-ALT-DESC;FMTTYPE=text/html:<!DOCTYPE html><html><head><title></title></head><body aria-disabled="false"><p>Join us on Thursday\, June 18 for an open house and ribbon cutting celebration at the new location of Bloom Aesthetics + Wellness in Mashpee\, home of your new favorite med spa.<br><br>Learn more at&nbsp\;<a fr-original-style="" href="https://bloomaestheticsma.com/" style="user-select: auto\;">https://bloomaestheticsma.com/</a></p></body></html>
LOCATION:133 Falmouth Road Unit 2B Mashpee MA 02649
UID:e.3323.1444372
SEQUENCE:3
DTSTAMP:20260421T072705Z
URL:https://business.mashpeechamber.com/events/Details/open-house-ribbon-cutting-at-bloom-aesthetics-wellness-1710736?sourceTypeId=Hub
END:VEVENT
END:VCALENDAR
