BEGIN:VCALENDAR
VERSION:2.0
PRODID:-//ChamberMaster//Event Calendar 2.0//EN
METHOD:PUBLISH
X-PUBLISHED-TTL:P1H
REFRESH-INTERVAL:P1H
CALSCALE:GREGORIAN
BEGIN:VTIMEZONE
TZID:America/New_York
BEGIN:DAYLIGHT
RRULE:FREQ=YEARLY;BYMONTH=3;BYDAY=2SU
DTSTART:20070101T000000
TZOFFSETFROM:-0500
TZOFFSETTO:-0400
TZNAME:Eastern Daylight Time
END:DAYLIGHT
BEGIN:STANDARD
RRULE:FREQ=YEARLY;BYMONTH=11;BYDAY=1SU
DTSTART:20070101T000000
TZOFFSETFROM:-0400
TZOFFSETTO:-0500
TZNAME:Eastern Standard Time
END:STANDARD
END:VTIMEZONE
BEGIN:VEVENT
DTSTART;TZID=America/New_York:20260414T120000
DTEND;TZID=America/New_York:20260414T133000
X-MICROSOFT-CDO-ALLDAYEVENT:FALSE
SUMMARY:Lunch & Learn- Women in the Trades
DESCRIPTION:Have lunch with us and Connect with Women in the Trades- You DON'T need to be female to be here!\nLunch and Learn at Cape Space in Mashpee April 14th 12-1:30pm- Come connect with women in the trades\, break barriers leading women in local businesses- Join Madelyn Tucker Oceanside Restoration\, Cindy Collings- Cdesign & Partners\, Paula Lyons Barry- Petrocelli Public Adjusters\, Katerina Cedrone- Cedrone Construction
X-ALT-DESC;FMTTYPE=text/html:Have lunch with us and Connect with Women in the Trades- You DON'T need to be female to be here!\nLunch and Learn at Cape Space in Mashpee April 14th 12-1:30pm- Come connect with women in the trades\, break barriers leading women in local businesses- Join Madelyn Tucker Oceanside Restoration\, Cindy Collings- Cdesign & Partners\, Paula Lyons Barry- Petrocelli Public Adjusters\, Katerina Cedrone- Cedrone Construction
LOCATION:13 Steeple Street Mashpee MA 02649
UID:e.3323.1435035
SEQUENCE:3
DTSTAMP:20260421T072955Z
URL:https://business.mashpeechamber.com/events/Details/lunch-learn-women-in-the-trades-1698600?sourceTypeId=Hub
END:VEVENT
END:VCALENDAR
