BEGIN:VCALENDAR
VERSION:2.0
PRODID:-//ChamberMaster//Event Calendar 2.0//EN
METHOD:PUBLISH
X-PUBLISHED-TTL:P1H
REFRESH-INTERVAL:P1H
CALSCALE:GREGORIAN
BEGIN:VTIMEZONE
TZID:America/New_York
BEGIN:DAYLIGHT
RRULE:FREQ=YEARLY;BYMONTH=3;BYDAY=2SU
DTSTART:20070101T000000
TZOFFSETFROM:-0500
TZOFFSETTO:-0400
TZNAME:Eastern Daylight Time
END:DAYLIGHT
BEGIN:STANDARD
RRULE:FREQ=YEARLY;BYMONTH=11;BYDAY=1SU
DTSTART:20070101T000000
TZOFFSETFROM:-0400
TZOFFSETTO:-0500
TZNAME:Eastern Standard Time
END:STANDARD
END:VTIMEZONE
BEGIN:VEVENT
DTSTART;TZID=America/New_York:20260519T120000
DTEND;TZID=America/New_York:20260519T130000
X-MICROSOFT-CDO-ALLDAYEVENT:FALSE
SUMMARY:Lunch & Learn: AI for the Rest of Us
DESCRIPTION:A free\, hands-on lunch & learn on practical AI tools for small businesses.\n\nThis isn't a lecture about what AI might do someday. It's a live demo of what it can do for your business right now\, using free tools you can start with this week.\n\n💥 Make AI sound like your business - A 10-minute setup that transforms generic output into drafts that match your voice\, your products\, and your customers.\n💥 Ask your own data questions - Upload a spreadsheet and get answers in seconds: top customers\, trends\, at-risk accounts\, even a visual dashboard.\n💥 Turn tribal knowledge into documentation - Ramble about a process\, paste the transcript\, get a clean SOP a new hire could follow on day one.\n💥 Competitive intel and marketing - Platform-specific social campaigns and competitive landscape analysis during your lunch break.\n💥 The 80/20 rapid fire - Real business tasks go from blank page to ready-to-send in under a minute.\n\nWHO THIS IS FOR\nSmall business owners and operators who are curious about AI but aren't sure where to start - or started and want to get more out of it. No technical background needed - just bring curiosity and a laptop if you'd like to follow along. You'll walk away with a printed resource guide\, your first three steps\, and a framework for getting real results from AI.\n\nABOUT THE SPEAKER\nIan Jones is the founder of Third Order Labs\, an applied AI studio. 15 years of engineering leadership in regulated industries (pharma cold chain\, IoT\, telehealth). MEng in Computer Science\, Cornell University.
X-ALT-DESC;FMTTYPE=text/html:<!DOCTYPE html><html><head><title></title></head><body aria-disabled="false"><p>A free\, hands-on lunch &amp\; learn on practical AI tools for small businesses.<br><br>This isn&#39\;t a lecture about what AI might do someday. It&#39\;s a live demo of what it can do for your business right now\, using free tools you can start with this week.<br><br>💥 <strong fr-original-style="" style="font-weight: 700\;">Make AI sound like your business</strong> - A 10-minute setup that transforms generic output into drafts that match your voice\, your products\, and your customers.<br>💥 <strong fr-original-style="" style="font-weight: 700\;">Ask your own data questions</strong> - Upload a spreadsheet and get answers in seconds: top customers\, trends\, at-risk accounts\, even a visual dashboard.<br>💥 <strong fr-original-style="" style="font-weight: 700\;">Turn tribal knowledge into documentation</strong> - Ramble about a process\, paste the transcript\, get a clean SOP a new hire could follow on day one.<br>💥 <strong fr-original-style="" style="font-weight: 700\;">Competitive intel and marketing</strong> - Platform-specific social campaigns and competitive landscape analysis during your lunch break.<br>💥 <strong fr-original-style="" style="font-weight: 700\;">The 80/20 rapid fire</strong> - Real business tasks go from blank page to ready-to-send in under a minute.<br><br><strong fr-original-style="" style="font-weight: 700\;">WHO THIS IS FOR</strong><br>Small business owners and operators who are curious about AI but aren&#39\;t sure where to start - or started and want to get more out of it. No technical background needed - just bring curiosity and a laptop if you&#39\;d like to follow along. You&#39\;ll walk away with a printed resource guide\, your first three steps\, and a framework for getting real results from AI.<br><br><strong fr-original-style="" style="font-weight: 700\;">ABOUT THE SPEAKER</strong><br>Ian Jones is the founder of Third Order Labs\, an applied AI studio. 15 years of engineering leadership in regulated industries (pharma cold chain\, IoT\, telehealth). MEng in Computer Science\, Cornell University.</p></body></html>
LOCATION:13 Steeple St. Mashpee MA 02649
UID:e.3323.1440806
SEQUENCE:3
DTSTAMP:20260421T072531Z
URL:https://business.mashpeechamber.com/events/Details/lunch-learn-ai-for-the-rest-of-us-1706008?sourceTypeId=Hub
END:VEVENT
END:VCALENDAR
