BEGIN:VCALENDAR
VERSION:2.0
PRODID:-//ChamberMaster//Event Calendar 2.0//EN
METHOD:PUBLISH
X-PUBLISHED-TTL:P1H
REFRESH-INTERVAL:P1H
CALSCALE:GREGORIAN
BEGIN:VTIMEZONE
TZID:America/New_York
BEGIN:DAYLIGHT
RRULE:FREQ=YEARLY;BYMONTH=3;BYDAY=2SU
DTSTART:20070101T000000
TZOFFSETFROM:-0500
TZOFFSETTO:-0400
TZNAME:Eastern Daylight Time
END:DAYLIGHT
BEGIN:STANDARD
RRULE:FREQ=YEARLY;BYMONTH=11;BYDAY=1SU
DTSTART:20070101T000000
TZOFFSETFROM:-0400
TZOFFSETTO:-0500
TZNAME:Eastern Standard Time
END:STANDARD
END:VTIMEZONE
BEGIN:VEVENT
DTSTART;TZID=America/New_York:20261212T180000
DTEND;TZID=America/New_York:20261212T190000
X-MICROSOFT-CDO-ALLDAYEVENT:FALSE
SUMMARY:2026 Mashpee Season of Illumination | Sponsorship + Float Registration
DESCRIPTION:The Mashpee Season of Illumination is upon us with the 19th Annual Mashpee Season of Illumination Parade scheduled for Saturday\, December 12 at 6pm with a rain date of Sunday\, December 13. Help us make this a holiday season to remember by sponsoring this event! Sponsorship dollars help light the Mashpee rotary and host the only nighttime parade on Cape Cod. This year's theme is EVERGREEN. 🌲We look forward to celebrating with you!
X-ALT-DESC;FMTTYPE=text/html:<!DOCTYPE html><html><head><title></title></head><body aria-disabled="false"><p>The Mashpee Season of Illumination is upon us with the 19th Annual Mashpee Season of Illumination Parade scheduled for Saturday\, December 12 at 6pm with a rain date of Sunday\, December 13. Help us make this a holiday season to remember by sponsoring this event! Sponsorship dollars help light the Mashpee rotary and host the only nighttime parade on Cape Cod.&nbsp\;</p><p>This year&#39\;s theme is EVERGREEN. 🌲</p><p>We look forward to celebrating with you!</p></body></html>
LOCATION:22 Steeple Street Mashpee MA 02649
UID:e.3323.1437209
SEQUENCE:3
DTSTAMP:20260421T072822Z
URL:https://business.mashpeechamber.com/events/Details/2026-mashpee-season-of-illumination-sponsorship-float-registration-1701151?sourceTypeId=Hub
END:VEVENT
END:VCALENDAR
